Workbook

Sheet 30.04.2025r.
A2: Limit finansowy przekazany w Arkuszu Kalkulacyjnym z dnia 06.05.2025r. Kurs Euro: 4,2708 | C2: Sprawozdanie miesięczne z realizacji Programu Fundusze Europejskie dla Rybactwa na lata 2021-2027
D3: dane na dzień 30.04.2025r.
A4: Priorytety/Działania | B4: limit finansowy dla środków w latach 2021 - 2027 w PLN | C4: Złożone wnioski o dofinansowanie1 | F4: Wnioski odrzucone2 | H4: Wnioski wybrane | K4: Podpisane umowy czynne | P4: Złożone wnioski o płatność3 | T4: Zrealizowane płatności | Z4: Wydatki do poświadczenia4
C5: liczba | D5: kwota dofinansowania w PLN | E5: wykorzystanie limitu w % | F5: liczba wniosków odrzuconych | G5: kwota wniosków odrzuconych w PLN | H5: liczba | I5: kwota [PLN] | J5: wykorzystanie limitu w % | K5: liczba umów | L5: kwota kosztów kwalifikowalnych | M5: kwota dofinansowania w PLN | N5: w tym kwota UE | O5: wykorzystanie limitu w % | P5: liczba operacji | Q5: liczba wniosków | R5: kwota dofinansowania w PLN | S5: wykorzystanie limitu w % | T5: liczba operacji | U5: liczba zleceń płatności | V5: kwota dofinansowania w PLN | W5: w tym wkład UE | X5: kwota dofinansowania w PLN (płatności zaliczkowe) | Y5: wykorzystanie limitu w % | Z5: liczba operacji | AA5: kwota wydatków kwalifikowalnych | AB5: kwota dofinansowania w PLN | AC5: w tym wkład UE | AD5: wykorzystanie limitu w %
A6: Priorytet 1 - Wspieranie zrównoważonego rybołówstwa oraz odbudowy i ochrony żywych zasobów wodnych | B6: =SUM(B7:B17) -> 1.3132915e+09 | C6: =SUM(C7:C17) -> 1685 | D6: =SUM(D7:D17) -> 7.4867704e+08 | E6: =D6/B6 -> 0.57007684 | F6: =SUM(F7:F17) -> 231 | G6: =SUM(G7:G17) -> 2.1732053e+08 | H6: =SUM(H7:H17) -> 1015 | I6: =SUM(I7:I17) -> 4.3515378e+08 | J6: =I6/B6 -> 0.33134593 | K6: =SUM(K7:K17) -> 998 | L6: =SUM(L7:L17) -> 4.2504071e+08 | M6: =SUM(M7:M17) -> 4.2248333e+08 | N6: =SUM(N7:N17) -> 2.9573833e+08 | O6: =M6/B6 -> 0.32169807 | P6: =SUM(P7:P17) -> 793 | Q6: =SUM(Q7:Q17) -> 798 | R6: =SUM(R7:R17) -> 2.4145151e+08 | S6: =R6/B6 -> 0.18385219 | T6: =SUM(T7:T17) -> 711 | U6: =SUM(U7:U17) -> 719 | V6: =SUM(V7:V17) -> 2.0415084e+08 | W6: =SUM(W7:W17) -> 1.4290559e+08 | X6: =SUM(X7:X17) -> 21345055 | Y6: =V6/B6 -> 0.15544976 | Z6: =SUM(Z7:Z17) -> 452 | AA6: =SUM(AA7:AA17) -> 1.4479407e+08 | AB6: =SUM(AB7:AB17) -> 1.4479407e+08 | AC6: =SUM(AC7:AC17) -> 1.0135585e+08 | AD6: =AB6/B6 -> 0.1102528
A7: Działanie 1.1 - Kapitał ludzki | B7: 25691625 | C7: 66 | D7: 6708123.6 | E7: =D7/B7 -> 0.26110157 | F7: 19 | G7: 1017184 | H7: 31 | I7: 3459130.8 | J7: =I7/B7 -> 0.1346404 | K7: 29 | L7: 4267179.2 | M7: 3354944.1 | N7: 2348460.9 | O7: =M7/B7 -> 0.13058513 | P7: 5 | Q7: 5 | R7: 131637.44 | S7: =R7/B7 -> 0.0051237491 | T7: 0 | U7: 3 | V7: 151315.31 | W7: 105920.71 | X7: 108310.89 | Y7: =V7/B7 -> 0.0058896746 | Z7: 0 | AA7: 0 | AB7: 0 | AC7: 0 | AD7: =AB7/B7 -> 0
A8: Działanie 1.2 - Innowacje | B8: 54307500 | C8: 0 | D8: 0 | E8: =D8/B8 -> 0 | F8: 0 | G8: 0 | H8: 0 | I8: 0 | J8: =I8/B8 -> 0 | K8: 0 | L8: 0 | M8: 0 | N8: 0 | O8: =M8/B8 -> 0 | P8: 0 | Q8: 0 | R8: 0 | S8: =R8/B8 -> 0 | T8: 0 | U8: 0 | V8: 0 | W8: 0 | X8: 0 | Y8: =V8/B8 -> 0 | Z8: 0 | AA8: 0 | AB8: 0 | AC8: 0 | AD8: =AB8/B8 -> 0
A9: Działanie 1.3 - Dywersyfikacja działalności rybackiej | B9: 83550000 | C9: 13 | D9: 7065507.5 | E9: =D9/B9 -> 0.084566218 | F9: 1 | G9: 472972.6 | H9: 2 | I9: 3808423.4 | J9: =I9/B9 -> 0.045582567 | K9: 0 | L9: 0 | M9: 0 | N9: 0 | O9: =M9/B9 -> 0 | P9: 0 | Q9: 0 | R9: 0 | S9: =R9/B9 -> 0 | T9: 0 | U9: 0 | V9: 0 | W9: 0 | X9: 0 | Y9: =V9/B9 -> 0 | Z9: 0 | AA9: 0 | AB9: 0 | AC9: 0 | AD9: =AB9/B9 -> 0
A10: Działanie 1.4 - Poprawa bezpieczeństwa i warunków pracy | B10: 37597500 | C10: 355 | D10: 58741740 | E10: =D10/B10 -> 1.5623842 | F10: 20 | G10: 4171742.9 | H10: 32 | I10: 4598004 | J10: =I10/B10 -> 0.12229547 | K10: 30 | L10: 5308890.3 | M10: 4412728.4 | N10: 3088909.8 | O10: =M10/B10 -> 0.1173676 | P10: 0 | Q10: 0 | R10: 0 | S10: =R10/B10 -> 0 | T10: 10 | U10: 11 | V10: 704264.52 | W10: 492985.14 | X10: 704264.52 | Y10: =V10/B10 -> 0.018731685 | Z10: 0 | AA10: 0 | AB10: 0 | AC10: 0 | AD10: =AB10/B10 -> 0
A11: Działanie 1.5 - Inwestycje w portach | B11: 85291433 | C11: 24 | D11: 1.5089476e+08 | E11: =D11/B11 -> 1.7691666 | F11: 5 | G11: 1.1193337e+08 | H11: 8 | I11: 26077904 | J11: =I11/B11 -> 0.30575056 | K11: 8 | L11: 26619342 | M11: 26077904 | N11: 18254532 | O11: =M11/B11 -> 0.30575056 | P11: 0 | Q11: 0 | R11: 0 | S11: =R11/B11 -> 0 | T11: 3 | U11: 3 | V11: 116500 | W11: 81550 | X11: 116500 | Y11: =V11/B11 -> 0.0013659051 | Z11: 0 | AA11: 0 | AB11: 0 | AC11: 0 | AD11: =AB11/B11 -> 0
A12: Działanie 1.6 - Zwiększenie efektywności energetycznej i zmniejszenie emisji CO2 | B12: 16710000 | C12: 0 | D12: 0 | E12: =D12/B12 -> 0 | F12: 0 | G12: 0 | H12: 0 | I12: 0 | J12: =I12/B12 -> 0 | K12: 0 | L12: 0 | M12: 0 | N12: 0 | O12: =M12/B12 -> 0 | P12: 0 | Q12: 0 | R12: 0 | S12: =R12/B12 -> 0 | T12: 0 | U12: 0 | V12: 0 | W12: 0 | X12: 0 | Y12: =V12/B12 -> 0 | Z12: 0 | AA12: 0 | AB12: 0 | AC12: 0 | AD12: =AB12/B12 -> 0
A13: Działanie 1.7 - Trwałe zaprzestanie działalności połowowej | B13: 3.1550969e+08 | C13: 622 | D13: 361284659 | E13: =D13/B13 -> 1.1450826 | F13: 149 | G13: 96546590 | H13: 472 | I13: 262094069 | J13: =I13/B13 -> 0.83070053 | K13: 464 | L13: 254552836 | M13: 254552836 | N13: 1.7818699e+08 | O13: =M13/B13 -> 0.80679878 | P13: 341 | Q13: 341 | R13: 182334876 | S13: =R13/B13 -> 0.57790578 | T13: 293 | U13: 293 | V13: 151252610 | W13: 105876827 | X13: 0 | Y13: =V13/B13 -> 0.47939133 | Z13: 238 | AA13: 127861110 | AB13: 127861110 | AC13: 89502777 | AD13: =AB13/B13 -> 0.40525256
A14: Działanie 1.8 - Tymczasowe zaprzestanie działalności połowowej | B14: 81387484 | C14: 542 | D14: 36200600 | E14: =D14/B14 -> 0.44479321 | F14: 33 | G14: 1876200 | H14: 427 | I14: 27925400 | J14: =I14/B14 -> 0.34311664 | K14: 424 | L14: 27727400 | M14: 27727400 | N14: 19409180 | O14: =M14/B14 -> 0.34068383 | P14: 424 | Q14: 424 | R14: 27727400 | S14: =R14/B14 -> 0.34068383 | T14: 389 | U14: 389 | V14: 25447400 | W14: 17813180 | X14: 0 | Y14: =V14/B14 -> 0.3126697 | Z14: 211 | AA14: 13143000 | AB14: 13143000 | AC14: 9200100 | AD14: =AB14/B14 -> 0.16148675
A15: Działanie 1.9 - Kontrola i egzekwowanie przepisów wspólnej polityki rybołówstwa | B15: 3.3335372e+08 | C15: 30 | D15: 30577153 | E15: =D15/B15 -> 0.091725849 | F15: 3 | G15: 1295995.3 | H15: 18 | I15: 23301790 | J15: =I15/B15 -> 0.069901096 | K15: 18 | L15: 23509335 | M15: 23301790 | N15: 16311253 | O15: =M15/B15 -> 0.069901096 | P15: 6 | Q15: 10 | R15: 7948796.6 | S15: =R15/B15 -> 0.023844931 | T15: 5 | U15: 8 | V15: 5872211.8 | W15: 4110548.3 | X15: 80000 | Y15: =V15/B15 -> 0.017615558 | Z15: 3 | AA15: 3789956.3 | AB15: 3789956.3 | AC15: 2652969.4 | AD15: =AB15/B15 -> 0.011369174
A16: Działanie 1.10 - Gromadzenie danych rybackich | B16: 125325000 | C16: 3 | D16: 65985928 | E16: =D16/B16 -> 0.52651847 | F16: 0 | G16: 0 | H16: 3 | I16: 65985928 | J16: =I16/B16 -> 0.52651847 | K16: 3 | L16: 65152590 | M16: 65152590 | N16: 45606813 | O16: =M16/B16 -> 0.51986906 | P16: 1 | Q16: 2 | R16: 22897342 | S16: =R16/B16 -> 0.18270371 | T16: 3 | U16: 4 | V16: 20335980 | W16: 14235186 | X16: 20335980 | Y16: =V16/B16 -> 0.16226595 | Z16: 0 | AA16: 0 | AB16: 0 | AC16: 0 | AD16: =AB16/B16 -> 0
A17: Działanie 1.11 - Ochrona środowiska naturalnego i zmniejszenie wpływu działalności rybackiej na środowisko | B17: 154567500 | C17: 30 | D17: 31218575 | E17: =D17/B17 -> 0.20197373 | F17: 1 | G17: 6476.86 | H17: 22 | I17: 17903133 | J17: =I17/B17 -> 0.11582728 | K17: 22 | L17: 17903133 | M17: 17903133 | N17: 12532193 | O17: =M17/B17 -> 0.11582728 | P17: 16 | Q17: 16 | R17: 411452.88 | S17: =R17/B17 -> 0.0026619624 | T17: 8 | U17: 8 | V17: 270557.56 | W17: 189390.24 | X17: 0 | Y17: =V17/B17 -> 0.0017504169 | Z17: 0 | AA17: 0 | AB17: 0 | AC17: 0 | AD17: =AB17/B17 -> 0
A18: Priorytet 2 - Wspieranie zrównoważonej działalności w zakresie akwakultury oraz przetwarzania i wprowadzania do obrotu produktów rybołówstwa i akwakultury, przyczyniając się w ten sposób do bezpieczeństwa żywnościowego w Unii | B18: =SUM(B19:B26) -> 1.2737987e+09 | C18: =SUM(C19:C26) -> 1226 | D18: =SUM(D19:D26) -> 9.7990522e+08 | E18: =D18/B18 -> 0.76927792 | F18: =SUM(F19:F26) -> 164 | G18: =SUM(G19:G26) -> 1.5601049e+08 | H18: =SUM(H19:H26) -> 746 | I18: =SUM(I19:I26) -> 5.7306691e+08 | J18: =I18/B18 -> 0.44988812 | K18: =SUM(K19:K26) -> 730 | L18: =SUM(L19:L26) -> 6.5761232e+08 | M18: =SUM(M19:M26) -> 5.5997939e+08 | N18: =SUM(N19:N26) -> 3.9197613e+08 | O18: =M18/B18 -> 0.43961372 | P18: =SUM(P19:P26) -> 539 | Q18: =SUM(Q19:Q26) -> 633 | R18: =SUM(R19:R26) -> 92996891 | S18: =R18/B18 -> 0.073007525 | T18: =SUM(T19:T26) -> 450 | U18: =SUM(U19:U26) -> 482 | V18: =SUM(V19:V26) -> 83868792 | W18: =SUM(W19:W26) -> 58708152 | X18: =SUM(X19:X26) -> 40403837 | Y18: =V18/B18 -> 0.065841479 | Z18: =SUM(Z19:Z26) -> 317 | AA18: =SUM(AA19:AA26) -> 43748771 | AB18: =SUM(AB19:AB26) -> 40041856 | AC18: =SUM(AC19:AC26) -> 28029298 | AD18: =AB18/B18 -> 0.031434994
A19: Działanie 2.1 - Kapitał ludzki | B19: 50130000 | C19: 25 | D19: 40853612 | E19: =D19/B19 -> 0.81495336 | F19: 11 | G19: 5602116.8 | H19: 8 | I19: 34562948 | J19: =I19/B19 -> 0.68946635 | K19: 8 | L19: 35809573 | M19: 34562948 | N19: 24194064 | O19: =M19/B19 -> 0.68946635 | P19: 2 | Q19: 2 | R19: 567945.89 | S19: =R19/B19 -> 0.011329461 | T19: 5 | U19: 11 | V19: 2669488.1 | W19: 1868641.7 | X19: 2669488.1 | Y19: =V19/B19 -> 0.053251309 | Z19: 0 | AA19: 0 | AB19: 0 | AC19: 0 | AD19: =AB19/B19 -> 0
A20: Działanie 2.2 - Inwestycje i innowacje w akwakulturze | B20: 4.4569447e+08 | C20: 393 | D20: 3.7276254e+08 | E20: =D20/B20 -> 0.83636339 | F20: 76 | G20: 91015267 | H20: 64 | I20: 92097442 | J20: =I20/B20 -> 0.20663806 | K20: 52 | L20: 1.6731444e+08 | M20: 82284251 | N20: 57589526 | O20: =M20/B20 -> 0.18462031 | P20: 4 | Q20: 5 | R20: 14496802 | S20: =R20/B20 -> 0.032526322 | T20: 14 | U20: 17 | V20: 9523600.2 | W20: 6666520.1 | X20: 9523600.2 | Y20: =V20/B20 -> 0.021368002 | Z20: 1 | AA20: 7050200 | AB20: 3525100 | AC20: 2467570 | AD20: =AB20/B20 -> 0.0079092299
A21: Działanie 2.3 - Akwakultura środowiskowa | B21: 3.6633238e+08 | C21: 709 | D21: 3.7594118e+08 | E21: =D21/B21 -> 1.0262297 | F21: 61 | G21: 23056667 | H21: 648 | I21: 3.5288451e+08 | J21: =I21/B21 -> 0.96329052 | K21: 644 | L21: 3.4965396e+08 | M21: 3.4965396e+08 | N21: 2.4475778e+08 | O21: =M21/B21 -> 0.95447189 | P21: 517 | Q21: 603 | R21: 61910091 | S21: =R21/B21 -> 0.16899978 | T21: 417 | U21: 430 | V21: 43458762 | W21: 30421132 | X21: 0 | Y21: =V21/B21 -> 0.11863205 | Z21: 314 | AA21: 33191500 | AB21: 33190669 | AC21: 23233467 | AD21: =AB21/B21 -> 0.090602609
A22: Działanie 2.4 - Organizacje producentów | B22: 1.0694304e+08 | C22: 30 | D22: 46067789 | E22: =D22/B22 -> 0.4307694 | F22: 5 | G22: 10079173 | H22: 11 | I22: 16925619 | J22: =I22/B22 -> 0.15826761 | K22: 11 | L22: 22349038 | M22: 16895317 | N22: 11826722 | O22: =M22/B22 -> 0.15798426 | P22: 9 | Q22: 14 | R22: 13267273 | S22: =R22/B22 -> 0.12405925 | T22: 2 | U22: 2 | V22: 3225869.3 | W22: 2258108.5 | X22: 3225869.3 | Y22: =V22/B22 -> 0.030164369 | Z22: 0 | AA22: 0 | AB22: 0 | AC22: 0 | AD22: =AB22/B22 -> 0
A23: Działanie 2.5 - Inwestycje w przetwórstwie | B23: 57181954 | C23: 39 | D23: 38473547 | E23: =D23/B23 -> 0.67282672 | F23: 2 | G23: 1121112.6 | H23: 0 | I23: 0 | J23: =I23/B23 -> 0 | K23: 0 | L23: 0 | M23: 0 | N23: 0 | O23: =M23/B23 -> 0 | P23: 0 | Q23: 0 | R23: 0 | S23: =R23/B23 -> 0 | T23: 0 | U23: 0 | V23: 0 | W23: 0 | X23: 0 | Y23: =V23/B23 -> 0 | Z23: 0 | AA23: 0 | AB23: 0 | AC23: 0 | AD23: =AB23/B23 -> 0
A24: Działanie 2.6 - Zmniejszenie oddziaływania przetwórstwa na środowisko | B24: 63706875 | C24: 4 | D24: 3714116.6 | E24: =D24/B24 -> 0.058300091 | F24: 0 | G24: 0 | H24: 0 | I24: 0 | J24: =I24/B24 -> 0 | K24: 0 | L24: 0 | M24: 0 | N24: 0 | O24: =M24/B24 -> 0 | P24: 0 | Q24: 0 | R24: 0 | S24: =R24/B24 -> 0 | T24: 0 | U24: 0 | V24: 0 | W24: 0 | X24: 0 | Y24: =V24/B24 -> 0 | Z24: 0 | AA24: 0 | AB24: 0 | AC24: 0 | AD24: =AB24/B24 -> 0
A25: Działanie 2.7 - Świadomy konsument | B25: 183810000 | C25: 26 | D25: 1.0209245e+08 | E25: =D25/B25 -> 0.55542379 | F25: 9 | G25: 25136157 | H25: 15 | I25: 76596390 | J25: =I25/B25 -> 0.41671503 | K25: 15 | L25: 82485313 | M25: 76582912 | N25: 53608038 | O25: =M25/B25 -> 0.4166417 | P25: 7 | Q25: 9 | R25: 2754780.3 | S25: =R25/B25 -> 0.014987108 | T25: 12 | U25: 22 | V25: 24991072 | W25: 17493750 | X25: 24984879 | Y25: =V25/B25 -> 0.13596144 | Z25: 2 | AA25: 3507070.4 | AB25: 3326086.2 | AC25: 2328260.3 | AD25: =AB25/B25 -> 0.018095241
A26: Działanie 2.8 - Mechanizm interwencyjny | B26: 0 | C26: 0 | D26: 0 | E26: 0 | F26: 0 | G26: 0 | H26: 0 | I26: 0 | J26: 0 | K26: 0 | L26: 0 | M26: 0 | N26: 0 | O26: 0 | P26: 0 | Q26: 0 | R26: 0 | S26: 0 | T26: 0 | U26: 0 | V26: 0 | W26: 0 | X26: 0 | Y26: 0 | Z26: 0 | AA26: 0 | AB26: 0 | AC26: 0 | AD26: 0
A27: Priorytet 3 - Sprzyjanie zrównoważonej niebieskiej gospodarce na obszarach przybrzeżnych, wyspiarskich i śródlądowych oraz wspieranie rozwoju społeczności rybackich i sektora akwakultury | B27: =SUM(B28:B30) -> 279892500 | C27: =SUM(C28:C30) -> 53 | D27: =SUM(D28:D30) -> 44196294 | E27: =D27/B27 -> 0.15790453 | F27: =SUM(F28:F30) -> 9 | G27: =SUM(G28:G30) -> 1627625 | H27: =SUM(H28:H30) -> 20 | I27: =SUM(I28:I30) -> 499600 | J27: =I27/B27 -> 0.001784971 | K27: =SUM(K28:K30) -> 20 | L27: =SUM(L28:L30) -> 545041.19 | M27: =SUM(M28:M30) -> 499600 | N27: =SUM(N28:N30) -> 349720 | O27: =M27/B27 -> 0.001784971 | P27: =SUM(P28:P30) -> 20 | Q27: =SUM(Q28:Q30) -> 20 | R27: =SUM(R28:R30) -> 417100 | S27: =R27/B27 -> 0.001490215 | T27: =SUM(T28:T30) -> 20 | U27: =SUM(U28:U30) -> 23 | V27: =SUM(V28:V30) -> 549600 | W27: =SUM(W28:W30) -> 384720 | X27: =SUM(X28:X30) -> 132500 | Y27: =V27/B27 -> 0.001963611 | Z27: =SUM(Z28:Z30) -> 17 | AA27: =SUM(AA28:AA30) -> 479480.9 | AB27: =SUM(AB28:AB30) -> 424600 | AC27: =SUM(AC28:AC30) -> 297220 | AD27: =AB27/B27 -> 0.001517011
A28: Działanie 3.1 - Realizacja lokalnych strategii rozwoju i współpraca | B28: 237490875 | C28: 0 | D28: 0 | E28: =D28/B28 -> 0 | F28: 0 | G28: 0 | H28: 0 | I28: 0 | J28: =I28/B28 -> 0 | K28: 0 | L28: 0 | M28: 0 | N28: 0 | O28: =M28/B28 -> 0 | P28: 0 | Q28: 0 | R28: 0 | S28: =R28/B28 -> 0 | T28: 0 | U28: 0 | V28: 0 | W28: 0 | X28: 0 | Y28: =V28/B28 -> 0 | Z28: 0 | AA28: 0 | AB28: 0 | AC28: 0 | AD28: =AB28/B28 -> 0
A29: Działanie 3.2 - Wsparcie przygotowawcze | B29: 543075 | C29: 28 | D29: 699600 | E29: =D29/B29 -> 1.2882199 | F29: 8 | G29: 200000 | H29: 20 | I29: 499600 | J29: =I29/B29 -> 0.9199466 | K29: 20 | L29: 545041.19 | M29: 499600 | N29: 349720 | O29: =M29/B29 -> 0.9199466 | P29: 20 | Q29: 20 | R29: 417100 | S29: =R29/B29 -> 0.76803388 | T29: 20 | U29: 23 | V29: 549600 | W29: 384720 | X29: 132500 | Y29: =V29/B29 -> 1.0120149 | Z29: 17 | AA29: 479480.9 | AB29: 424600 | AC29: 297220 | AD29: =AB29/B29 -> 0.78184413
A30: Działanie 3.3 - Funkcjonowanie rybackich lokalnych grup działania | B30: 41858550 | C30: 25 | D30: 43496694 | E30: =D30/B30 -> 1.0391352 | F30: 1 | G30: 1427625 | H30: 0 | I30: 0 | J30: =I30/B30 -> 0 | K30: 0 | L30: 0 | M30: 0 | N30: 0 | O30: =M30/B30 -> 0 | P30: 0 | Q30: 0 | R30: 0 | S30: =R30/B30 -> 0 | T30: 0 | U30: 0 | V30: 0 | W30: 0 | X30: 0 | Y30: =V30/B30 -> 0 | Z30: 0 | AA30: 0 | AB30: 0 | AC30: 0 | AD30: =AB30/B30 -> 0
A31: Priorytet 4 - Wzmocnienie międzynarodowego zarządzania oceanami oraz przyczynianie się do zapewnienia bezpieczeństwa oraz czystość mórz i oceanów, ochrony na nich, a także zrównoważonego zarządzania nimi | B31: =SUM(B32:B33) -> 8355000 | C31: =SUM(C32:C33) -> 10 | D31: =SUM(D32:D33) -> 4171426.2 | E31: =D31/B31 -> 0.49927303 | F31: =SUM(F32:F33) -> 2 | G31: =SUM(G32:G33) -> 811257.61 | H31: =SUM(H32:H33) -> 2 | I31: =SUM(I32:I33) -> 943846.46 | J31: =I31/B31 -> 0.11296786 | K31: =SUM(K32:K33) -> 0 | L31: =SUM(L32:L33) -> 0 | M31: =SUM(M32:M33) -> 0 | N31: =SUM(N32:N33) -> 0 | O31: =M31/B31 -> 0 | P31: =SUM(P32:P33) -> 0 | Q31: =SUM(Q32:Q33) -> 0 | R31: =SUM(R32:R33) -> 0 | S31: =R31/B31 -> 0 | T31: =SUM(T32:T33) -> 0 | U31: =SUM(U32:U33) -> 0 | V31: =SUM(V32:V33) -> 0 | W31: =SUM(W32:W33) -> 0 | X31: =SUM(X32:X33) -> 0 | Y31: =V31/B31 -> 0 | Z31: =SUM(Z32:Z33) -> 0 | AA31: =SUM(AA32:AA33) -> 0 | AB31: =SUM(AB32:AB33) -> 0 | AC31: =SUM(AC32:AC33) -> 0 | AD31: =AB31/B31 -> 0
A32: Działanie 4.1 - Wiedza o morzu | B32: 5013000 | C32: 6 | D32: 2229407 | E32: =D32/B32 -> 0.44472512 | F32: 2 | G32: 811257.61 | H32: 2 | I32: 943846.46 | J32: =I32/B32 -> 0.18827976 | K32: 0 | L32: 0 | M32: 0 | N32: 0 | O32: =M32/B32 -> 0 | P32: 0 | Q32: 0 | R32: 0 | S32: =R32/B32 -> 0 | T32: 0 | U32: 0 | V32: 0 | W32: 0 | X32: 0 | Y32: =V32/B32 -> 0 | Z32: 0 | AA32: 0 | AB32: 0 | AC32: 0 | AD32: =AB32/B32 -> 0
A33: Działanie 4.2 - Nadzór morski i współpraca straży przybrzeżnych | B33: 3342000 | C33: 4 | D33: 1942019.2 | E33: =D33/B33 -> 0.5810949 | F33: 0 | G33: 0 | H33: 0 | I33: 0 | J33: =I33/B33 -> 0 | K33: 0 | L33: 0 | M33: 0 | N33: 0 | O33: =M33/B33 -> 0 | P33: 0 | Q33: 0 | R33: 0 | S33: =R33/B33 -> 0 | T33: 0 | U33: 0 | V33: 0 | W33: 0 | X33: 0 | Y33: =V33/B33 -> 0 | Z33: 0 | AA33: 0 | AB33: 0 | AC33: 0 | AD33: =AB33/B33 -> 0
A34: Priorytet 5 - Pomoc techniczna | B34: 1.8347146e+08 | C34: 26 | D34: 63211921 | E34: =D34/B34 -> 0.34453273 | F34: 0 | G34: 0 | H34: 24 | I34: 62437166 | J34: =I34/B34 -> 0.34030997 | K34: 24 | L34: 62424013 | M34: 62424013 | N34: 43696809 | O34: =M34/B34 -> 0.34023828 | P34: 10 | Q34: 13 | R34: 41449754 | S34: =R34/B34 -> 0.22591936 | T34: 2 | U34: 2 | V34: 662199.11 | W34: 463539.37 | X34: 0 | Y34: =V34/B34 -> 0.0036092759 | Z34: 1 | AA34: 614628.7 | AB34: 614628.7 | AC34: 430240.09 | AD34: =AB34/B34 -> 0.0033499963
A35: Razem | B35: =SUM(B34,B31,B27,B18,B6) -> 3.0588091e+09 | C35: =SUM(C34,C31,C27,C18,C6) -> 3000 | D35: =SUM(D34,D31,D27,D18,D6) -> 1.8401619e+09 | E35: =D35/B35 -> 0.60159422 | F35: =SUM(F34,F31,F27,F18,F6) -> 406 | G35: =SUM(G34,G31,G27,G18,G6) -> 3.757699e+08 | H35: =SUM(H34,H31,H27,H18,H6) -> 1807 | I35: =SUM(I34,I31,I27,I18,I6) -> 1.0721013e+09 | J35: =I35/B35 -> 0.35049631 | K35: =SUM(K34,K31,K27,K18,K6) -> 1772 | L35: =SUM(L34,L31,L27,L18,L6) -> 1.1456221e+09 | M35: =SUM(M34,M31,M27,M18,M6) -> 1.0453863e+09 | N35: =SUM(N34,N31,N27,N18,N6) -> 7.3176098e+08 | O35: =M35/B35 -> 0.34176252 | P35: =SUM(P31,P27,P18,P6,P34) -> 1362 | Q35: =SUM(Q34,Q31,Q27,Q18,Q6) -> 1464 | R35: =SUM(R34,R31,R27,R18,R6) -> 3.7631525e+08 | S35: =R35/B35 -> 0.12302672 | T35: =SUM(T34,T31,T27,T18,T6) -> 1183 | U35: =SUM(U34,U31,U27,U18,U6) -> 1226 | V35: =SUM(V34,V31,V27,V18,V6) -> 2.8923143e+08 | W35: =SUM(W34,W31,W27,W18,W6) -> 2.02462e+08 | X35: =SUM(X34,X31,X27,X18,X6) -> 61881392 | Y35: =V35/B35 -> 0.094556874 | Z35: =SUM(Z34,Z31,Z27,Z18,Z6) -> 787 | AA35: =SUM(AA34,AA31,AA27,AA18,AA6) -> 1.8963695e+08 | AB35: =SUM(AB34,AB31,AB27,AB18,AB6) -> 1.8587515e+08 | AC35: =SUM(AC34,AC31,AC27,AC18,AC6) -> 130112604 | AD35: =AB35/B35 -> 0.060767162
A37: Żródło danych: CST2021
A39: 1. Złożone wnioski o dofinansowanie obejmują wnioski anulowane.
A40: 2. Wnioski odrzucone i anulowane.
A41: 3.. Z wyłączeniem wniosków o płatnośc zaliczkowych
A42: 4.Poświadczone wydatki nie uwzględniają zwrotów i środków odzyskanych. Dane dostępne na podstawie wniosków do certyfikacji w ramach CST2021

Sheet DOPiPT
D1: Informacja o realizacji Pomocy Technicznej PO "Rybactwo i Morze" 2014-2020
H2: ='30.04.2025r.'!D3 -> dane na dzień 30.04.2025r. | I2: ='30.04.2025r.'!E3 -> 0
A3: Beneficjenci | B3: Wnioski o dofinansowanie-złożone | D3: Wnioski odrzucone/wycofane | F3: Podpisane umowy (czynne) | J3: Aneksy | L3: Wnioski o płatność-złożone | O3: Zrealizowane płatności4
B4: liczba | C4: kwota dofinansowania w PLN | D4: liczba wniosków odrzuconych | E4: kwota wniosków odrzuconych w PLN | F4: liczba czynnych umów1 | G4: kwota dofinansowania w PLN czynnych umów2 | H4: liczba rozwiązanych umów | I4: kwota dofinansowania rozwiązanych umów | J4: liczba | K4: kwota dofinansowania w PLN | L4: liczba wniosków | M4: kwota dofinansowania w PLN | N4: Kwota oszczędności ze zleceń płatności3 | O4: liczba płatności | P4: kwota dofinansowania w PLN | Q4: w tym wkład UE
A5: Agencja Restrukturyzacji i Modernizacji Rolnictwa | B5: 13 | C5: 47213857 | D5: 0 | E5: 0 | F5: 11 | G5: 41049057 | H5: 0 | I5: 0 | J5: 0 | K5: 0 | L5: 16 | M5: 34248930 | N5: 127.05 | O5: 17 | P5: 34248930 | Q5: 25686698
A6: Ministerstwo Finansów | B6: 10 | C6: 10801782 | D6: 0 | E6: 0 | F6: 10 | G6: 10746042 | H6: 0 | I6: 0 | J6: 0 | K6: 0 | L6: 19 | M6: 6534803.2 | N6: 1480738.2 | O6: 19 | P6: 6534175.9 | Q6: 4900631.8
A7: Ministerstwo Gospodarki Morskiej i Żeglugi Śródlądowej | B7: 17 | C7: 31508582 | D7: 1 | E7: 847113.07 | F7: 16 | G7: 32333442 | H7: 0 | I7: 0 | J7: 1 | K7: 20000 | L7: 36 | M7: 31190876 | N7: 1169477.9 | O7: 36 | P7: 31163964 | Q7: 23372973
A8: Ministerstwo Rolnictwa i Rozwoju Wsi | B8: 16 | C8: 41557833 | D8: 0 | E8: 0 | F8: 16 | G8: 41048032 | H8: 0 | I8: 0 | J8: 2 | K8: 478114 | L8: 16 | M8: 39518973 | N8: 569407.89 | O8: 16 | P8: 39478775 | Q8: 29609081
A9: Samorząd Województwa Dolnośląskiego | B9: 10 | C9: 2899930.5 | D9: 1 | E9: 19934.72 | F9: 8 | G9: 2249668.5 | H9: 0 | I9: 0 | J9: 1 | K9: 166.64 | L9: 9 | M9: 2131302.4 | N9: 112726.12 | O9: 9 | P9: 2131302 | Q9: 1598476.5
A10: Samorząd Województwa Kujawsko-Pomorskiego | B10: 19 | C10: 3242693.2 | D10: 1 | E10: 201418.47 | F10: 17 | G10: 2811597.5 | H10: 0 | I10: 0 | J10: 2 | K10: 146815.03 | L10: 36 | M10: 2659686.2 | N10: 148711.32 | O10: 42 | P10: 2659162.3 | Q10: 1994371.5
A11: Samorząd Województwa Lubelskiego | B11: 9 | C11: 3647227.5 | D11: 0 | E11: 0 | F11: 9 | G11: 3643636.3 | H11: 0 | I11: 0 | J11: 0 | K11: 0 | L11: 8 | M11: 2886509.9 | N11: 10141.21 | O11: 8 | P11: 2886337.2 | Q11: 2164752.9
A12: Samorząd Województwa Lubuskiego | B12: 12 | C12: 3679350.4 | D12: 2 | E12: 403041.84 | F12: 10 | G12: 3258531.9 | H12: 0 | I12: 0 | J12: 0 | K12: 0 | L12: 10 | M12: 3251696.2 | N12: 6835.72 | O12: 10 | P12: 3251696.2 | Q12: 2438772.1
A13: Samorząd Województwa Łódzkiego | B13: 9 | C13: 3794330.9 | D13: 1 | E13: 78103.31 | F13: 7 | G13: 3594542.2 | H13: 0 | I13: 0 | J13: 0 | K13: 0 | L13: 7 | M13: 3575852.9 | N13: 25812.66 | O13: 7 | P13: 3568729.5 | Q13: 2676547.1
A14: Samorząd Województwa Małopolskiego | B14: 8 | C14: 3244131.2 | D14: 0 | E14: 0 | F14: 8 | G14: 3161281.1 | H14: 0 | I14: 0 | J14: 1 | K14: 25000 | L14: 7 | M14: 2566330.7 | N14: 362579.15 | O14: 9 | P14: 2566330.7 | Q14: 1924748
A15: Samorząd Województwa Mazowieckiego | B15: 7 | C15: 2799182.8 | D15: 0 | E15: 0 | F15: 7 | G15: 2771227 | H15: 0 | I15: 0 | J15: 0 | K15: 0 | L15: 6 | M15: 2615410.1 | N15: 111139.18 | O15: 8 | P15: 2613803.4 | Q15: 1960352.5
A16: Samorząd Województwa Opolskiego | B16: 18 | C16: 3762219.5 | D16: 0 | E16: 0 | F16: 18 | G16: 3752832 | H16: 0 | I16: 0 | J16: 1 | K16: 8750 | L16: 15 | M16: 2632944.7 | N16: 344538.39 | O16: 15 | P16: 2629774 | Q16: 1972330.4
A17: Samorząd Województwa Podkarpackiego | B17: 13 | C17: 3772825.8 | D17: 0 | E17: 0 | F17: 12 | G17: 3625850.3 | H17: 0 | I17: 0 | J17: 1 | K17: 15000 | L17: 13 | M17: 3008818.7 | N17: 65645.06 | O17: 13 | P17: 3006001.6 | Q17: 2254501.2
A18: Samorząd Województwa Podlaskiego | B18: 8 | C18: 3705588.9 | D18: 0 | E18: 0 | F18: 8 | G18: 3652146 | H18: 0 | I18: 0 | J18: 1 | K18: 37000 | L18: 6 | M18: 2643473.6 | N18: 9672.37 | O18: 6 | P18: 2643473.6 | Q18: 1982605.2
A19: Samorząd Województwa Pomorskiego | B19: 8 | C19: 8117980.9 | D19: 0 | E19: 0 | F19: 8 | G19: 6199070.3 | H19: 0 | I19: 0 | J19: 0 | K19: 0 | L19: 15 | M19: 6172290.4 | N19: 18549.2 | O19: 19 | P19: 6172290.4 | Q19: 4629217.7
A20: Samorząd Województwa Śląskiego | B20: 4 | C20: 4997636.4 | D20: 0 | E20: 0 | F20: 4 | G20: 4530837.5 | H20: 0 | I20: 0 | J20: 2 | K20: 255377.8 | L20: 4 | M20: 3576000.5 | N20: 3072.96 | O20: 4 | P20: 3576000.5 | Q20: 2682000.4
A21: Samorząd Województwa Świętokrzyskiego | B21: 11 | C21: 3655047 | D21: 0 | E21: 0 | F21: 11 | G21: 3631369 | H21: 0 | I21: 0 | J21: 0 | K21: 0 | L21: 10 | M21: 2908411.2 | N21: 6635.78 | O21: 10 | P21: 2908411.2 | Q21: 2181308.4
A22: Samorząd Województwa Warmińsko-Mazurskiego | B22: 10 | C22: 4576015.3 | D22: 0 | E22: 0 | F22: 10 | G22: 4574589.8 | H22: 0 | I22: 0 | J22: 0 | K22: 0 | L22: 9 | M22: 3762726.4 | N22: 11811.9 | O22: 8 | P22: 3742255.5 | Q22: 2806691.6
A23: Samorząd Województwa Wielkopolskiego | B23: 12 | C23: 5784405.1 | D23: 0 | E23: 0 | F23: 12 | G23: 5798088.2 | H23: 0 | I23: 0 | J23: 0 | K23: 0 | L23: 10 | M23: 4467877.4 | N23: 375210.79 | O23: 10 | P23: 4467877.4 | Q23: 3350908
A24: Samorząd Województwa Zachodniopomorskiego | B24: 8 | C24: 6209161.4 | D24: 0 | E24: 0 | F24: 8 | G24: 6209161.4 | H24: 0 | I24: 0 | J24: 0 | K24: 0 | L24: 10 | M24: 6201483.2 | N24: 7678.14 | O24: 10 | P24: 6201483.2 | Q24: 4651112.4
A25: Razem | B25: 222 | C25: 1.9896978e+08 | D25: 6 | E25: 1549611.4 | F25: 210 | G25: 1.88641e+08 | H25: 0 | I25: 0 | J25: 12 | K25: 986223.47 | L25: 262 | M25: 1.665544e+08 | N25: 4840511 | O25: 276 | P25: 1.6645077e+08 | Q25: 1.2483808e+08
A26: Wyjaśnienia:
A27: 1. Liczba czynnych umów jest rezultatem pomniejszenia liczby pierwotnych umów o liczbę rozwiązanych umów
A28: 2. Kwota czynnych umów jest rezultatem pomniejszenia kwoty pierwotnych umów o kwotę rozwiązanych umów i kwotę zawartych aneksów
A29: 3. Oszczędności ze zleceń płatności - różnica między kwotą określoną w umowie/etapie umowy i kwotą zlecenia płatności.
A30: 4. W tym płatności zaliczkowe
A32: ='30.04.2025r.'!A42 -> 4.Poświadczone wydatki nie uwzględniają zwrotów i środków odzyskanych. Dane dostępne na podstawie wniosków do certyfikacji w ramach CST2021
A33: ='30.04.2025r.'!A43 -> 0
A34: ='30.04.2025r.'!A44 -> 0
A35: ='30.04.2025r.'!#REF! -> #REF!
